BEGIN:VCALENDAR
VERSION:2.0
PRODID:-//https://eruuf.org///NONSGML kigkonsult.se iCalcreator 2.10.15//
METHOD:PUBLISH
BEGIN:VEVENT
UID:20260425T034931UTC-7489Clp1uS@https://eruuf.org/
DTSTAMP:20260425T034931Z
DESCRIPTION:Our annual Earth Day worship service. Contacts\, Cheryl Turney 
 and Betsy Bickel. \nSunday\, April 26\, after 2nd service: Earth Day Coffe
 e Hour and concert! Featuring Kristi Chilton\, hosted by Earth Justice wit
 h plant-based fare. Contact\, Betsy Bickel.  https://eruuf.org/calendar/ca
 lendar-view/event/8194-earth-day-worship-service-and-coffee-hour.html
DTSTART:20200426T130000Z
DTEND:20200426T170000Z
LOCATION:Sanctuary - ERUUF   (4907 Garrett Road\, Durham\, NC 27707  )
SUMMARY:Earth Day Worship Service and Coffee Hour
URL:https://eruuf.org/calendar/calendar-view/event/8194-earth-day-worship-s
 ervice-and-coffee-hour.html
END:VEVENT
END:VCALENDAR
