BEGIN:VCALENDAR
VERSION:2.0
PRODID:-//https://eruuf.org///NONSGML kigkonsult.se iCalcreator 2.10.15//
METHOD:PUBLISH
BEGIN:VEVENT
UID:20260421T142336UTC-5934rOPBZu@https://eruuf.org/
DTSTAMP:20260421T142336Z
DESCRIPTION:Contace Katie Ruf at katie.ruf@gmail.com for more information. 
  https://eruuf.org/calendar/calendar-view/event/820-20-s-and-30-s-group.ht
 ml
DTSTART:20150118T180000Z
DTEND:20150118T190000Z
LOCATION:Room 3 - CARE Building ()
SUMMARY:20's and 30's Group
URL:https://eruuf.org/calendar/calendar-view/event/820-20-s-and-30-s-group.
 html
END:VEVENT
END:VCALENDAR
