BEGIN:VCALENDAR
VERSION:2.0
PRODID:-//https://eruuf.org///NONSGML kigkonsult.se iCalcreator 2.10.15//
METHOD:PUBLISH
BEGIN:VEVENT
UID:20260422T044713UTC-34178HN8Fh@https://eruuf.org/
DTSTAMP:20260422T044713Z
DESCRIPTION:For more information contact Jessica Sheffield at 919-451-1578O
 r\, email at jessica.sheffield@duke.edu  https://eruuf.org/calendar/calend
 ar-view/event/821-eruuf-parent-s-group.html
DTSTART:20150117T150000Z
DTEND:20150117T180000Z
LOCATION:Room 4/5   (4907 Garrett Rd\, Durham\, NC 27707   )
SUMMARY:ERUUF Parent's Group
URL:https://eruuf.org/calendar/calendar-view/event/821-eruuf-parent-s-group
 .html
END:VEVENT
END:VCALENDAR
