BEGIN:VCALENDAR
VERSION:2.0
PRODID:-//https://eruuf.org///NONSGML kigkonsult.se iCalcreator 2.10.15//
METHOD:PUBLISH
BEGIN:VEVENT
UID:20260424T034102UTC-6492gZ78jz@https://eruuf.org/
DTSTAMP:20260424T034102Z
DESCRIPTION:Learn gentle mind-body exercises to integrate slow\, intentiona
 l movements with a meditative focus. Taught by Nancy Couts\, ERUUF member 
 and long time Tai Chi practitioner. https://eruuf.org/calendar/calendar-vi
 ew/event/8212-pastoral-care-tai-chi-for-health-well-being.html
DTSTART:20200302T201535Z
DTEND:20200302T211500Z
LOCATION:Commons Room   (4907 Garrett Rd\, Durham\, NC 27707  )
SUMMARY:Pastoral Care Tai Chi for Health & Well being
URL:https://eruuf.org/calendar/calendar-view/event/8212-pastoral-care-tai-c
 hi-for-health-well-being.html
END:VEVENT
END:VCALENDAR
