BEGIN:VCALENDAR
VERSION:2.0
PRODID:-//https://eruuf.org///NONSGML kigkonsult.se iCalcreator 2.10.15//
METHOD:PUBLISH
BEGIN:VEVENT
UID:20260422T043804UTC-77443KuWPC@https://eruuf.org/
DTSTAMP:20260422T043804Z
DESCRIPTION:Learn gentle mind-body exercises to integrate slow\, intentiona
 l movements with a meditative focus. Taught by Nancy Couts\, ERUUF member 
 and long time Tai Chi practitioner. https://eruuf.org/calendar/calendar-vi
 ew/event/8214-pastoral-care-tai-chi-for-health-well-being.html
DTSTART:20200302T211501Z
DTEND:20200302T223000Z
LOCATION:Commons Room   (4907 Garrett Rd\, Durham\, NC 27707  )
SUMMARY:Pastoral Care Tai Chi for Health & Well being
URL:https://eruuf.org/calendar/calendar-view/event/8214-pastoral-care-tai-c
 hi-for-health-well-being.html
END:VEVENT
END:VCALENDAR
