BEGIN:VCALENDAR
VERSION:2.0
PRODID:-//https://eruuf.org///NONSGML kigkonsult.se iCalcreator 2.10.15//
METHOD:PUBLISH
BEGIN:VEVENT
UID:20260424T090749UTC-30242N7uTI@https://eruuf.org/
DTSTAMP:20260424T090749Z
DESCRIPTION:For more information contact Kacey Zucchino - kzucchino@eruuf.o
 rg  https://eruuf.org/calendar/calendar-view/event/822-spiritual-threads.h
 tml
DTSTART:20150117T150000Z
DTEND:20150117T170000Z
LOCATION:Commons Room   (4907 Garrett Rd\, Durham\, NC 27707  )
SUMMARY:Spiritual Threads
URL:https://eruuf.org/calendar/calendar-view/event/822-spiritual-threads.ht
 ml
END:VEVENT
END:VCALENDAR
