BEGIN:VCALENDAR
VERSION:2.0
PRODID:-//https://eruuf.org///NONSGML kigkonsult.se iCalcreator 2.10.15//
METHOD:PUBLISH
BEGIN:VEVENT
UID:20260423T110015UTC-2876WVrfRJ@https://eruuf.org/
DTSTAMP:20260423T110015Z
DESCRIPTION:Learn gentle mind-body exercises to integrate slow\, intentiona
 l movements with a meditative focus. Taught by Nancy Couts\, ERUUF member 
 and long time Tai Chi practitioner. https://eruuf.org/calendar/calendar-vi
 ew/event/8227-pastoral-care-tai-chi-for-health-well-being.html
DTSTART:20200427T191535Z
DTEND:20200427T201500Z
LOCATION:Commons Room   (4907 Garrett Rd\, Durham\, NC 27707  )
SUMMARY:Pastoral Care Tai Chi for Health & Well being
URL:https://eruuf.org/calendar/calendar-view/event/8227-pastoral-care-tai-c
 hi-for-health-well-being.html
END:VEVENT
END:VCALENDAR
