BEGIN:VCALENDAR
VERSION:2.0
PRODID:-//https://eruuf.org///NONSGML kigkonsult.se iCalcreator 2.10.15//
METHOD:PUBLISH
BEGIN:VEVENT
UID:20260426T021303UTC-2737SC1b81@https://eruuf.org/
DTSTAMP:20260426T021303Z
DESCRIPTION:Volunteering at the SEEDS program as part of the 30 Days of Lov
 e campaign. https://eruuf.org/calendar/calendar-view/event/823-service-sat
 urday.html
DTSTART:20150117T140000Z
DTEND:20150117T170000Z
LOCATION:SEEDS (706 Gilbert Street\, Durham\, NC 27701)
SUMMARY:Service Saturday
URL:https://eruuf.org/calendar/calendar-view/event/823-service-saturday.htm
 l
END:VEVENT
END:VCALENDAR
