BEGIN:VCALENDAR
VERSION:2.0
PRODID:-//https://eruuf.org///NONSGML kigkonsult.se iCalcreator 2.10.15//
METHOD:PUBLISH
BEGIN:VEVENT
UID:20260425T012552UTC-41744pmTOH@https://eruuf.org/
DTSTAMP:20260425T012552Z
DESCRIPTION:Join the Earth Justice Team at 6:30 pm for a potluck supper. Pl
 ease bring a vegan dish if you are able. Film starts at 7:00 pm\, Ice on F
 ire: 'Continues to spread the alarm about climate change but offers concre
 te solutions.' Questions? Contact Jonathan Sheline\, jonsheline@gmail.com.
  https://eruuf.org/calendar/calendar-view/event/8231-earth-justice-monthly
 -potluck-film.html
DTSTART:20200304T233000Z
DTEND:20200305T013000Z
LOCATION:Commons Room   (4907 Garrett Rd\, Durham\, NC 27707  )
SUMMARY:Earth Justice Monthly Potluck & Film 
URL:https://eruuf.org/calendar/calendar-view/event/8231-earth-justice-month
 ly-potluck-film.html
END:VEVENT
END:VCALENDAR
