BEGIN:VCALENDAR
VERSION:2.0
PRODID:-//https://eruuf.org///NONSGML kigkonsult.se iCalcreator 2.10.15//
METHOD:PUBLISH
BEGIN:VEVENT
UID:20260425T120752UTC-9962ZUWERl@https://eruuf.org/
DTSTAMP:20260425T120752Z
DESCRIPTION:Standing on the Side of Love is a community of people compelled
  to speak out against oppression\, united in the common belief that love i
 s the ultimate guiding force of our world. Thirty Days of Love is a period
  of intentional action\, service\, education\, and reflection from mid-Jan
  to mid-Feb. Local UU congregations create opportunities and events to par
 ticipate in this national program. See more details for events at ERUUF.  
 https://eruuf.org/calendar/calendar-view/event/824-30-days-of-love.html
DTSTART:20150117T050000Z
DTEND:20150215T050000Z
LOCATION:ERUUF Campus   (4907 Garrett Rd\, Durham\, NC 27707    )
SUMMARY:30 Days of Love
URL:https://eruuf.org/calendar/calendar-view/event/824-30-days-of-love.html
END:VEVENT
END:VCALENDAR
