BEGIN:VCALENDAR
VERSION:2.0
PRODID:-//https://eruuf.org///NONSGML kigkonsult.se iCalcreator 2.10.15//
METHOD:PUBLISH
BEGIN:VEVENT
UID:20260422T190533UTC-2513UOno0h@https://eruuf.org/
DTSTAMP:20260422T190533Z
DESCRIPTION:***This event has been postponed due to the COVID-19 Pandemic. 
 Please reach out to  Jonathan Sheline for more information.***\n  https://
 eruuf.org/calendar/calendar-view/event/8243-catered-plant-based-lunch-pres
 entations-postponed.html
DTSTART:20200419T170032Z
DTEND:20200419T193000Z
LOCATION:Fellowship Hall   ()
SUMMARY:Catered Plant-Based Lunch & Presentations (POSTPONED)
URL:https://eruuf.org/calendar/calendar-view/event/8243-catered-plant-based
 -lunch-presentations-postponed.html
END:VEVENT
END:VCALENDAR
