BEGIN:VCALENDAR
VERSION:2.0
PRODID:-//https://eruuf.org///NONSGML kigkonsult.se iCalcreator 2.10.15//
METHOD:PUBLISH
BEGIN:VEVENT
UID:20260422T175615UTC-44311aoI0t@https://eruuf.org/
DTSTAMP:20260422T175615Z
DESCRIPTION:***This event has been postponed due to the COVID-19 Pandemic. 
 Please reach out to  Jonathan Sheline for more information.***\nMeanwhile 
 members of Earth Justice would like to recommend the following documentari
 es and educational materials:\nDocumentaries:Forks Over KnivesWhat the Hea
 lth?CowspiracyIce on Fire [Excellent recent film by Leonardo DiCaprio]\nOt
 her educational materials to support plant-based eating (click here to acc
 ess):\nThe Food Revolution Network’s Need To Grow Impact Kit* includes:\nN
 eed to Grow\, full length filmSeries of video classes\, including: 'Nutrie
 nt Density: How to GROW Healing Foods' with Erik Cutter\, 'Starting a Seed
  Library' with Alicia Serratos\, 'The Most Important Steps to Your First G
 arden' with David King\, 'The Magic of Soils Simplified\, Parts 1 & 2' wit
 h Toby Hemenway\, 'Introduction to Permaculture' with Larry Santoyo\, 'How
  to Use Biochar' with Michael Smith\, 'Eliminating Pesticides from Schools
  and Communities' with Mackenzie Feldman\, plus 8 more! https://eruuf.org/
 calendar/calendar-view/event/8244-earth-justice-film-potluck-vegan-potluck
 -supper-postponed.html
DTSTART:20200421T220000Z
DTEND:20200422T010000Z
LOCATION:Fellowship Hall   ()
SUMMARY:Earth Justice Film & Potluck & Vegan Potluck Supper (POSTPONED)
URL:https://eruuf.org/calendar/calendar-view/event/8244-earth-justice-film-
 potluck-vegan-potluck-supper-postponed.html
END:VEVENT
END:VCALENDAR
