BEGIN:VCALENDAR
VERSION:2.0
PRODID:-//https://eruuf.org///NONSGML kigkonsult.se iCalcreator 2.10.15//
METHOD:PUBLISH
BEGIN:VEVENT
UID:20260422T222232UTC-1469U7omro@https://eruuf.org/
DTSTAMP:20260422T222232Z
DESCRIPTION:***This event has been postponed due to the COVID-19 Pandemic. 
 Please reach out to  Jonathan Sheline for more information.***\n  https://
 eruuf.org/calendar/calendar-view/event/8245-plant-based-eating-week-plant-
 based-cooking-demo-and-discussion-by-christine-frost-postponed.html
DTSTART:20200425T213000Z
DTEND:20200425T230000Z
LOCATION:Commons Room   (4907 Garrett Rd\, Durham\, NC 27707  )
SUMMARY:Plant-Based Eating Week: Plant-based cooking demo and discussion by
  Christine Frost (POSTPONED)
URL:https://eruuf.org/calendar/calendar-view/event/8245-plant-based-eating-
 week-plant-based-cooking-demo-and-discussion-by-christine-frost-postponed.
 html
END:VEVENT
END:VCALENDAR
