BEGIN:VCALENDAR
VERSION:2.0
PRODID:-//https://eruuf.org///NONSGML kigkonsult.se iCalcreator 2.10.15//
METHOD:PUBLISH
BEGIN:VEVENT
UID:20260420T105907UTC-3919lm1gh0@https://eruuf.org/
DTSTAMP:20260420T105907Z
DESCRIPTION:This will be an opportunity for CAN members to come together an
 d ratify 2015 budget\, timeline and strategy. We will also gather reports 
 on the listening session campaign (goal 1\,500 people) & provide an update
  on the friends of CAN campaign. All at ERUUF are welcome to attend this m
 eeting\, even if you've never been to a Durham CAN meeting before.  It's a
  great way to see how Durham CAN works. https://eruuf.org/calendar/calenda
 r-view/event/825-durham-can-metro-council-meeting.html
DTSTART:20150115T230000Z
DTEND:20150116T010000Z
LOCATION: Nehemiah Christian Center  (514 North Mangum Street\, Durham\, NC
  27701\, USA)
SUMMARY:Durham CAN Metro Council meeting
URL:https://eruuf.org/calendar/calendar-view/event/825-durham-can-metro-cou
 ncil-meeting.html
END:VEVENT
END:VCALENDAR
