BEGIN:VCALENDAR
VERSION:2.0
PRODID:-//https://eruuf.org///NONSGML kigkonsult.se iCalcreator 2.10.15//
METHOD:PUBLISH
BEGIN:VEVENT
UID:20260423T100142UTC-12343tukzU@https://eruuf.org/
DTSTAMP:20260423T100142Z
DESCRIPTION:April 1-22:  Eco-Challenge\nJoin the Earth Day EcoChallenge ERU
 UF Team (returning Team ERUUF members from last year can sign in and new m
 embers need to join the EcoChallenge first then the ERUUF Team) and practi
 ce building and reinforcing sustainable regenerative habits with changemak
 ers across the globe! Select actions to take that align with your individu
 al values and make a 22-day commitment to complete those actions\, all the
  while practicing and reinforcing good habits. Choose actions that are pra
 cticed one-time or daily\, and choose them from categories such as Wildlif
 e\, Freshwater\, Oceans\, People\, Food\, Climate\, and Forests. For every
  completed action\, you create impact and earn points for your team\, and 
 build habits that ensure a better shared future for us all. \nContact Tom 
 Fletcher\, tffletch@gmail.com. https://eruuf.org/calendar/calendar-view/ev
 ent/8270-earth-climate-justice-month-eco-challenge.html
DTSTART:20200404T120000Z
DTEND:20200405T030000Z
LOCATION:ERUUF Campus   (4907 Garrett Rd\, Durham\, NC 27707    )
SUMMARY:Earth & Climate Justice Month: Eco-Challenge
URL:https://eruuf.org/calendar/calendar-view/event/8270-earth-climate-justi
 ce-month-eco-challenge.html
END:VEVENT
END:VCALENDAR
