BEGIN:VCALENDAR
VERSION:2.0
PRODID:-//https://eruuf.org///NONSGML kigkonsult.se iCalcreator 2.10.15//
METHOD:PUBLISH
BEGIN:VEVENT
UID:20260425T110502UTC-6708z3cTgu@https://eruuf.org/
DTSTAMP:20260425T110502Z
DESCRIPTION:Café ERUUF is an informal performance opportunity for any and a
 ll ERUUFians who would like to share their musical\, dramatic\, dance\, li
 terary\, magical\, athletic or other interests! Our appreciative audience 
 welcomes performers of all levels\, so it’s a great place for beginners to
  try out something new as well as for seasoned performers. Bring a potluck
  dessert and the whole family for an evening of goodies and fun!\nThe door
 s open at 6:30\, and the performances begin at 7:00. If you are interested
  in performing or in helping out with setup or cleanup\, please sign up be
 low.\n March 28 Event postponed\nRegister https://eruuf.org/calendar/calen
 dar-view/event/8289-cafe-eruuf.html
DTSTART:20200328T223022Z
DTEND:20200329T010000Z
LOCATION:Fellowship Hall   ()
SUMMARY:Cafe ERUUF
URL:https://eruuf.org/calendar/calendar-view/event/8289-cafe-eruuf.html
END:VEVENT
END:VCALENDAR
