BEGIN:VCALENDAR
VERSION:2.0
PRODID:-//https://eruuf.org///NONSGML kigkonsult.se iCalcreator 2.10.15//
METHOD:PUBLISH
BEGIN:VEVENT
UID:20260422T164619UTC-1232KsGiMH@https://eruuf.org/
DTSTAMP:20260422T164619Z
DESCRIPTION:The Earth Justice team invites you to a plant-based potluck and
  film showing of The Future Of Energy\, an inspiring overview of renewable
  energy projects and their promise for the future. Dinner at 6:30\, film a
 t 7:00. Feel free to join us for dinner even if you can't bring anything. 
 https://eruuf.org/calendar/calendar-view/event/8291-earth-justice-plant-ba
 sed-potluck-and-film.html
DTSTART:20200330T223000Z
DTEND:20200331T013000Z
LOCATION:Fellowship Hall   ()
SUMMARY:Earth Justice Plant-Based Potluck and Film 
URL:https://eruuf.org/calendar/calendar-view/event/8291-earth-justice-plant
 -based-potluck-and-film.html
END:VEVENT
END:VCALENDAR
