BEGIN:VCALENDAR
VERSION:2.0
PRODID:-//https://eruuf.org///NONSGML kigkonsult.se iCalcreator 2.10.15//
METHOD:PUBLISH
BEGIN:VEVENT
UID:20260423T140906UTC-9971h90Mef@https://eruuf.org/
DTSTAMP:20260423T140906Z
DESCRIPTION:Contact: Kacey Zucchino - kzucchino@eruuf.org  https://eruuf.or
 g/calendar/calendar-view/event/831-membership-team.html
DTSTART:20150112T161500Z
DTEND:20150112T173000Z
LOCATION:Library - CARE Building ()
SUMMARY:Membership Team
URL:https://eruuf.org/calendar/calendar-view/event/831-membership-team.html
END:VEVENT
END:VCALENDAR
