BEGIN:VCALENDAR
VERSION:2.0
PRODID:-//https://eruuf.org///NONSGML kigkonsult.se iCalcreator 2.10.15//
METHOD:PUBLISH
BEGIN:VEVENT
UID:20260423T170452UTC-6905pI3j1m@https://eruuf.org/
DTSTAMP:20260423T170452Z
DESCRIPTION:Contact: Beth Harvat\, bethandpeter@gmail.com  https://eruuf.or
 g/calendar/calendar-view/event/834-tuesday-evening-prayer-group.html
DTSTART:20150107T000000Z
DTEND:20150107T013000Z
LOCATION:Room 3 - CARE Building ()
SUMMARY:Tuesday Evening Prayer Group
URL:https://eruuf.org/calendar/calendar-view/event/834-tuesday-evening-pray
 er-group.html
END:VEVENT
END:VCALENDAR
