BEGIN:VCALENDAR
VERSION:2.0
PRODID:-//https://eruuf.org///NONSGML kigkonsult.se iCalcreator 2.10.15//
METHOD:PUBLISH
BEGIN:VEVENT
UID:20260420T085310UTC-1599V2kp8d@https://eruuf.org/
DTSTAMP:20260420T085310Z
DESCRIPTION:Maria Martinmariamartin1@earthlink.net919-360-1902  https://eru
 uf.org/calendar/calendar-view/event/838-soul-to-soul-women-s-group.html
DTSTART:20150104T180000Z
DTEND:20150104T200000Z
LOCATION:Room 3 - CARE Building ()
SUMMARY:Soul to Soul Women's Group
URL:https://eruuf.org/calendar/calendar-view/event/838-soul-to-soul-women-s
 -group.html
END:VEVENT
END:VCALENDAR
