BEGIN:VCALENDAR
VERSION:2.0
PRODID:-//https://eruuf.org///NONSGML kigkonsult.se iCalcreator 2.10.15//
METHOD:PUBLISH
BEGIN:VEVENT
UID:20260425T031940UTC-3477smktUu@https://eruuf.org/
DTSTAMP:20260425T031940Z
DESCRIPTION:Contact Kathy Cronin at kcronin@eruuf.org for more information.
   https://eruuf.org/calendar/calendar-view/event/840-coming-of-age-fmsyg.h
 tml
DTSTART:20150104T180000Z
DTEND:20150104T210000Z
LOCATION:Room 4/5   (4907 Garrett Rd\, Durham\, NC 27707   )
SUMMARY:Coming of Age/fMSYG
URL:https://eruuf.org/calendar/calendar-view/event/840-coming-of-age-fmsyg.
 html
END:VEVENT
END:VCALENDAR
