BEGIN:VCALENDAR
VERSION:2.0
PRODID:-//https://eruuf.org///NONSGML kigkonsult.se iCalcreator 2.10.15//
METHOD:PUBLISH
BEGIN:VEVENT
UID:20260423T162351UTC-0834jHvnXg@https://eruuf.org/
DTSTAMP:20260423T162351Z
DESCRIPTION:Our holiday schedule worship service. Please see Upcoming Servi
 ces for details of each service.Please see Past Services for podcasts and 
 details of older services. https://eruuf.org/calendar/calendar-view/event/
 844-worship-service.html
DTSTART:20141228T153000Z
DTEND:20141228T163000Z
LOCATION:Sanctuary - ERUUF   (4907 Garrett Road\, Durham\, NC 27707  )
SUMMARY:Worship Service
URL:https://eruuf.org/calendar/calendar-view/event/844-worship-service.html
END:VEVENT
END:VCALENDAR
