BEGIN:VCALENDAR
VERSION:2.0
PRODID:-//https://eruuf.org///NONSGML kigkonsult.se iCalcreator 2.10.15//
METHOD:PUBLISH
BEGIN:VEVENT
UID:20260424T091112UTC-2777sl4laF@https://eruuf.org/
DTSTAMP:20260424T091112Z
DESCRIPTION:Meet 9:15 at Monuts(on 9th Street)We will sort clothes for a lo
 cal clothing closet (the weather’s getting cooler\, and there’s a great ne
 ed) at Urban Ministries from 10am-noon. Must be at least 15 years old.Cont
 act Merritt Chesson.  https://eruuf.org/calendar/calendar-view/event/845-s
 ervice-saturday-dec-2014.html
DTSTART:20141206T140000Z
DTEND:20141206T170000Z
LOCATION:Urban Ministries (410 Liberty Street\, Durham\, NC 27701\, USA)
SUMMARY:Service Saturday (Dec 2014)
URL:https://eruuf.org/calendar/calendar-view/event/845-service-saturday-dec
 -2014.html
END:VEVENT
END:VCALENDAR
