BEGIN:VCALENDAR
VERSION:2.0
PRODID:-//https://eruuf.org///NONSGML kigkonsult.se iCalcreator 2.10.15//
METHOD:PUBLISH
BEGIN:VEVENT
UID:20260425T204441UTC-1614itdtSg@https://eruuf.org/
DTSTAMP:20260425T204441Z
DESCRIPTION:NC's30th Annual Gay\, Lesian\, Bisexual & Transgender Festival 
 Celebrated in Raleigh\, Duraham\, Chapel Hill & CarrboroDuke East CampusMo
 re info: NC PRIDE https://eruuf.org/calendar/calendar-view/event/847-nc-pr
 ide-14.html
DTSTART:20140927T140000Z
DTEND:20140927T200000Z
LOCATION:Duke East Campus\, Durham\, NC ()
SUMMARY:NC Pride 14
URL:https://eruuf.org/calendar/calendar-view/event/847-nc-pride-14.html
END:VEVENT
END:VCALENDAR
