BEGIN:VCALENDAR
VERSION:2.0
PRODID:-//https://eruuf.org///NONSGML kigkonsult.se iCalcreator 2.10.15//
METHOD:PUBLISH
BEGIN:VEVENT
UID:20260421T094222UTC-3609Vdogx5@https://eruuf.org/
DTSTAMP:20260421T094222Z
DESCRIPTION:The Inquirers Series is offered to welcome and inform visitors 
 and friends about ERUUF. Members are welcome to these classes as well. You
  will converse with ministers\, staff\, and lay leaders as you learn about
  ERUUF’s values\, culture and ministries\, along with basics about Unitari
 an Universalism. Eight topics are covered\, one per session.  See Inquirer
 s Series. #findingyourself@ERUUF\nPlease register in advance for upcoming 
 Inquirers Series Classes. Minimum 5 participants. \n ---\nSunday\, May 10 
 - No Class (Mother's Day) \nSunday\, May 17 - Class 4: Faith Development f
 or Children and Adults\n \nRegister\n \nSunday\, May 24 - Class 5: Worship
  & Liturgical Year \n \nRegister\n \n \nSunday\, May 31 - Class 6: Social 
 Justice\n \nRegister\n \n  https://eruuf.org/calendar/calendar-view/event/
 8493-inquirers-series-no-class.html
DTSTART:20200510T160000Z
DTEND:20200510T165500Z
LOCATION:Online (Zoom) (Scroll down to join or register.) ()
SUMMARY:Inquirers Series - No Class 
URL:https://eruuf.org/calendar/calendar-view/event/8493-inquirers-series-no
 -class.html
END:VEVENT
END:VCALENDAR
