BEGIN:VCALENDAR
VERSION:2.0
PRODID:-//https://eruuf.org///NONSGML kigkonsult.se iCalcreator 2.10.15//
METHOD:PUBLISH
BEGIN:VEVENT
UID:20260421T172918UTC-2119LcJPm5@https://eruuf.org/
DTSTAMP:20260421T172918Z
DESCRIPTION:The Inquirers Series is offered to welcome and inform visitors 
 and friends about ERUUF. Members are welcome to these classes as well. You
  will converse with ministers\, staff\, and lay leaders as you learn about
  ERUUF’s values\, culture and ministries\, along with basics about Unitari
 an Universalism. Eight topics are covered\, one per session.  See Inquirer
 s Series. #findingyourself@ERUUF\nPlease register in advance for upcoming 
 Inquirers Series Classes. Minimum 5 participants. \n ---\nSunday\, May 31 
 - Class 6: Social Justice\n \nRegister\n \nSunday\, June 7: Class 7: Pasto
 ral Care\n \nRegister\n \n \n\n \n\nSunday\, June 14 - Class 8: Membership
  101 & Stewardship\n \nRegister\n \n \nSunday\, June 21 - Class 2: UU Hist
 ory\n \nRegister\n\n \n\n \nSunday\, June 28 - No Classes: Annual Meeting
 \n \nSunday\, July 5 - Class 4: Faith Development \n \nRegister \n \n  htt
 ps://eruuf.org/calendar/calendar-view/event/8496-inquirers-series.html
DTSTART:20200531T160000Z
DTEND:20200531T165500Z
LOCATION:Online (Zoom) (Scroll down to join or register.) ()
SUMMARY:Inquirers Series
URL:https://eruuf.org/calendar/calendar-view/event/8496-inquirers-series.ht
 ml
END:VEVENT
END:VCALENDAR
