BEGIN:VCALENDAR
VERSION:2.0
PRODID:-//https://eruuf.org///NONSGML kigkonsult.se iCalcreator 2.10.15//
METHOD:PUBLISH
BEGIN:VEVENT
UID:20260422T112957UTC-0599N5nuU0@https://eruuf.org/
DTSTAMP:20260422T112957Z
DESCRIPTION:The Inquirers Series is offered to welcome and inform visitors 
 and friends about ERUUF. Members are welcome to these classes as well. You
  will converse with ministers\, staff\, and lay leaders as you learn about
  ERUUF’s values\, culture and ministries\, along with basics about Unitari
 an Universalism. Eight topics are covered\, one per session.  See Inquirer
 s Series. #findingyourself@ERUUF\nPlease register in advance for upcoming 
 Inquirers Series Classes. Minimum 5 participants. \n --- \nSunday\, June 7
 : Class 7: Pastoral Care\n \nRegister\n \n \n\n \n\nSunday\, June 14 - Cla
 ss 8: Membership 101 & Stewardship\n \nRegister\n \n \nSunday\, June 21 - 
 Class 2: UU History\n \nRegister\n\n \n\n \nSunday\, June 28 - No Classes:
  Annual Meeting\n \nSunday\, July 5 - Class 4: Faith Development \n \nRegi
 ster \n \n  https://eruuf.org/calendar/calendar-view/event/8499-inquirers-
 series.html
DTSTART:20200607T160000Z
DTEND:20200607T165500Z
LOCATION:Online (Zoom) (Scroll down to join or register.) ()
SUMMARY:Inquirers Series
URL:https://eruuf.org/calendar/calendar-view/event/8499-inquirers-series.ht
 ml
END:VEVENT
END:VCALENDAR
