BEGIN:VCALENDAR
VERSION:2.0
PRODID:-//https://eruuf.org///NONSGML kigkonsult.se iCalcreator 2.10.15//
METHOD:PUBLISH
BEGIN:VEVENT
UID:20260423T220153UTC-6833M9nGZR@https://eruuf.org/
DTSTAMP:20260423T220153Z
DESCRIPTION:Join the ERUUF Board of Trustees in two upcoming Congregational
  Listening Sessions: Our Financial and Strategic Future - Sunday\, May 17\
 , 1:00 pm and Monday\, May 18\, 7:00 pm via Zoom (link below) It is an unp
 recedented time and the long-term impacts this pandemic will have on our c
 ongregation are unclear. As Reverend Cayer has mentioned over the past few
  weeks\, ERUUF is not immune to the economic forces impacting the rest of 
 the country and in response\, the Board of Trustees is working hard to det
 ermine the best path forward for ERUUF financially and strategically.As we
  carefully weigh all options and set our congregational priorities for the
  next year\, we value your input and hope that you can join us for one of 
 two congregational listening sessions being held on Sunday\, May 17th at 1
 :00 pm and Monday\, May 18th at 7:00 pm.The Board of Trustees will be pres
 ent to share what we know of our circumstances\, answer questions\, and en
 gage with you around questions of values\, priorities\, and what our futur
 e holds. The feedback we receive will be used to inform our decision makin
 g as we build next year’s budget and determine near term congregational go
 als.\n \nJoin via Zoom  https://eruuf.org/calendar/calendar-view/event/851
 0-congregational-listening-sessions-our-financial-and-strategic-future.htm
 l
DTSTART:20200517T170000Z
DTEND:20200517T180000Z
LOCATION:Online (Zoom) (Scroll down to join or register.) ()
SUMMARY:Congregational Listening Sessions: Our Financial and Strategic Futu
 re 
URL:https://eruuf.org/calendar/calendar-view/event/8510-congregational-list
 ening-sessions-our-financial-and-strategic-future.html
END:VEVENT
END:VCALENDAR
