BEGIN:VCALENDAR
VERSION:2.0
PRODID:-//https://eruuf.org///NONSGML kigkonsult.se iCalcreator 2.10.15//
METHOD:PUBLISH
BEGIN:VEVENT
UID:20260423T184219UTC-4205FjGp64@https://eruuf.org/
DTSTAMP:20260423T184219Z
DESCRIPTION: \nGreetings and a great summer from ERUUF music! We have had a
  significant number of new friends join us over the past year\, and all wh
 o are interested in playing or singing music at ERUUF\, or parents of chil
 dren who do\, come be with us!\nBring a dish to share in the Fellowship Ha
 ll as we hear about music for the coming year\, and for the first time\, h
 ear live performances!\nAfter the meal\, we'll have a breakout opportunity
  for you to 'network' with musicians with whom you might like to join in a
  small group\, and we'll also have the first rehearsal of the Eno River Si
 ngers\, our excellent fellowship choir that is open to all without auditio
 n. If you have been at ERUUF for a long while\, here is your chance to mee
 t our new faces and to reconnect.\nSee you soon!\n  https://eruuf.org/cale
 ndar/calendar-view/event/853-annual-music-ingathering-potluck.html
DTSTART:20140821T223000Z
DTEND:20140822T003000Z
LOCATION:Fellowship Hall   ()
SUMMARY:Annual Music Ingathering Potluck
URL:https://eruuf.org/calendar/calendar-view/event/853-annual-music-ingathe
 ring-potluck.html
END:VEVENT
END:VCALENDAR
