BEGIN:VCALENDAR
VERSION:2.0
PRODID:-//https://eruuf.org///NONSGML kigkonsult.se iCalcreator 2.10.15//
METHOD:PUBLISH
BEGIN:VEVENT
UID:20260423T012904UTC-642587BS6e@https://eruuf.org/
DTSTAMP:20260423T012904Z
DESCRIPTION: https://eruuf.org/calendar/calendar-view/event/856-first-worsh
 ip-service.html
DTSTART:20140518T133000Z
DTEND:20140518T143000Z
LOCATION:Sanctuary - ERUUF   (4907 Garrett Road\, Durham\, NC 27707  )
SUMMARY:First Worship Service
URL:https://eruuf.org/calendar/calendar-view/event/856-first-worship-servic
 e.html
END:VEVENT
END:VCALENDAR
