BEGIN:VCALENDAR
VERSION:2.0
PRODID:-//https://eruuf.org///NONSGML kigkonsult.se iCalcreator 2.10.15//
METHOD:PUBLISH
BEGIN:VEVENT
UID:20260424T234818UTC-9456306USa@https://eruuf.org/
DTSTAMP:20260424T234818Z
DESCRIPTION: https://eruuf.org/calendar/calendar-view/event/858-first-worsh
 ip-service.html
DTSTART:20140504T133000Z
DTEND:20140504T143000Z
LOCATION:Sanctuary - ERUUF   (4907 Garrett Road\, Durham\, NC 27707  )
SUMMARY:First Worship Service
URL:https://eruuf.org/calendar/calendar-view/event/858-first-worship-servic
 e.html
END:VEVENT
END:VCALENDAR
