BEGIN:VCALENDAR
VERSION:2.0
PRODID:-//https://eruuf.org///NONSGML kigkonsult.se iCalcreator 2.10.15//
METHOD:PUBLISH
BEGIN:VEVENT
UID:20260424T222519UTC-8477lTdHUJ@https://eruuf.org/
DTSTAMP:20260424T222519Z
DESCRIPTION: https://eruuf.org/calendar/calendar-view/event/859-first-worsh
 ip-service.html
DTSTART:20140427T133000Z
DTEND:20140427T143000Z
LOCATION:Sanctuary - ERUUF   (4907 Garrett Road\, Durham\, NC 27707  )
SUMMARY:First Worship Service
URL:https://eruuf.org/calendar/calendar-view/event/859-first-worship-servic
 e.html
END:VEVENT
END:VCALENDAR
