BEGIN:VCALENDAR
VERSION:2.0
PRODID:-//https://eruuf.org///NONSGML kigkonsult.se iCalcreator 2.10.15//
METHOD:PUBLISH
BEGIN:VEVENT
UID:20260425T162414UTC-7768AnvbrV@https://eruuf.org/
DTSTAMP:20260425T162414Z
DESCRIPTION: https://eruuf.org/calendar/calendar-view/event/862-first-worsh
 ip-service.html
DTSTART:20140406T133000Z
DTEND:20140406T143000Z
LOCATION:Sanctuary - ERUUF   (4907 Garrett Road\, Durham\, NC 27707  )
SUMMARY:First Worship Service
URL:https://eruuf.org/calendar/calendar-view/event/862-first-worship-servic
 e.html
END:VEVENT
END:VCALENDAR
