BEGIN:VCALENDAR
VERSION:2.0
PRODID:-//https://eruuf.org///NONSGML kigkonsult.se iCalcreator 2.10.15//
METHOD:PUBLISH
BEGIN:VEVENT
UID:20260422T235455UTC-5147W2Ijlg@https://eruuf.org/
DTSTAMP:20260422T235455Z
DESCRIPTION:Please visit the Upcoming Services to read more on upcoming eve
 nts\, or see Past Services for podcasts and details on past services. http
 s://eruuf.org/calendar/calendar-view/event/865-second-worship-service.html
DTSTART:20140511T151500Z
DTEND:20140511T161500Z
LOCATION:Sanctuary - ERUUF   (4907 Garrett Road\, Durham\, NC 27707  )
SUMMARY:Second Worship Service
URL:https://eruuf.org/calendar/calendar-view/event/865-second-worship-servi
 ce.html
END:VEVENT
END:VCALENDAR
