BEGIN:VCALENDAR
VERSION:2.0
PRODID:-//https://eruuf.org///NONSGML kigkonsult.se iCalcreator 2.10.15//
METHOD:PUBLISH
BEGIN:VEVENT
UID:20260424T083400UTC-9993V91Unc@https://eruuf.org/
DTSTAMP:20260424T083400Z
DESCRIPTION:Please visit the Upcoming Services to read more on upcoming eve
 nts\, or see Past Services for podcasts and details on past services. http
 s://eruuf.org/calendar/calendar-view/event/867-second-worship-service.html
DTSTART:20140427T151500Z
DTEND:20140427T161500Z
LOCATION:Sanctuary - ERUUF   (4907 Garrett Road\, Durham\, NC 27707  )
SUMMARY:Second Worship Service
URL:https://eruuf.org/calendar/calendar-view/event/867-second-worship-servi
 ce.html
END:VEVENT
END:VCALENDAR
