BEGIN:VCALENDAR
VERSION:2.0
PRODID:-//https://eruuf.org///NONSGML kigkonsult.se iCalcreator 2.10.15//
METHOD:PUBLISH
BEGIN:VEVENT
UID:20260422T015304UTC-9332umfx09@https://eruuf.org/
DTSTAMP:20260422T015304Z
DESCRIPTION:ERUUF's monthly garden day is a fun community experience open t
 o all aspiring gardeners or people who just want to help our grounds look 
 good. You don't need to be an expert. We have folks that will work with yo
 u and show you what to do\, whether it be weeding\, mulching\, picking up 
 fallen branches\, pruning  or planting. Show up as you can between the hou
 rs of 9 and noon on the second Saturday of every month and check in with B
 arbara Beaman or her substitute.  Get on our email list so you can know wh
 at projects are being tackled each month by contacting Barbara\, barbara.b
 eaman@gmail.com https://eruuf.org/calendar/calendar-view/event/8692-eruuf-
 gardening-day-postponed-due-to-bad-weather.html
DTSTART:20210213T140000Z
DTEND:20210213T170000Z
LOCATION:ERUUF Campus   (4907 Garrett Rd\, Durham\, NC 27707    )
SUMMARY:ERUUF Gardening Day-POSTPONED due to bad weather
URL:https://eruuf.org/calendar/calendar-view/event/8692-eruuf-gardening-day
 -postponed-due-to-bad-weather.html
END:VEVENT
END:VCALENDAR
