BEGIN:VCALENDAR
VERSION:2.0
PRODID:-//https://eruuf.org///NONSGML kigkonsult.se iCalcreator 2.10.15//
METHOD:PUBLISH
BEGIN:VEVENT
UID:20260422T111750UTC-5365aJ1S65@https://eruuf.org/
DTSTAMP:20260422T111750Z
DESCRIPTION:Organizational Meeting for an ERUUF and ERFF program.  For more
  information\, contact Doug Rhodes:  DougRhodes2@Gmail.com https://eruuf.o
 rg/calendar/calendar-view/event/87-planned-giving-task-group.html
DTSTART:20180411T144715Z
DTEND:20180411T164715Z
LOCATION:Room 1 - CARE Building ()
SUMMARY:Planned Giving Task Group
URL:https://eruuf.org/calendar/calendar-view/event/87-planned-giving-task-g
 roup.html
END:VEVENT
END:VCALENDAR
