BEGIN:VCALENDAR
VERSION:2.0
PRODID:-//https://eruuf.org///NONSGML kigkonsult.se iCalcreator 2.10.15//
METHOD:PUBLISH
BEGIN:VEVENT
UID:20260423T175150UTC-8426nbv1vI@https://eruuf.org/
DTSTAMP:20260423T175150Z
DESCRIPTION:Our summer holiday worship service. Please see Upcoming Service
 s for details of each service.Please see Past Services for podcasts and de
 tails of older services. https://eruuf.org/calendar/calendar-view/event/87
 3-worship-service.html
DTSTART:20140824T143029Z
DTEND:20140824T153000Z
LOCATION:Sanctuary - ERUUF   (4907 Garrett Road\, Durham\, NC 27707  )
SUMMARY:Worship Service
URL:https://eruuf.org/calendar/calendar-view/event/873-worship-service.html
END:VEVENT
END:VCALENDAR
