BEGIN:VCALENDAR
VERSION:2.0
PRODID:-//https://eruuf.org///NONSGML kigkonsult.se iCalcreator 2.10.15//
METHOD:PUBLISH
BEGIN:VEVENT
UID:20260426T005134UTC-8268Lpxofh@https://eruuf.org/
DTSTAMP:20260426T005134Z
DESCRIPTION:Contact Leila Jackson for more information and to join. https:/
 /eruuf.org/calendar/calendar-view/event/8807-girl-scout-troup-693.html
DTSTART:20200705T180000Z
DTEND:20200705T200000Z
LOCATION:Online (Zoom) (Scroll down to join or register.) ()
SUMMARY:Girl Scout Troup 693
URL:https://eruuf.org/calendar/calendar-view/event/8807-girl-scout-troup-69
 3.html
END:VEVENT
END:VCALENDAR
