BEGIN:VCALENDAR
VERSION:2.0
PRODID:-//https://eruuf.org///NONSGML kigkonsult.se iCalcreator 2.10.15//
METHOD:PUBLISH
BEGIN:VEVENT
UID:20260424T235612UTC-5295stZvVX@https://eruuf.org/
DTSTAMP:20260424T235612Z
DESCRIPTION:Contact Leila Jackson for more information and to join. https:/
 /eruuf.org/calendar/calendar-view/event/8968-girl-scout-troup-693.html
DTSTART:20210523T180000Z
DTEND:20210523T200000Z
LOCATION:Online (Zoom) (Scroll down to join or register.) ()
SUMMARY:Girl Scout Troup 693
URL:https://eruuf.org/calendar/calendar-view/event/8968-girl-scout-troup-69
 3.html
END:VEVENT
END:VCALENDAR
