BEGIN:VCALENDAR
VERSION:2.0
PRODID:-//https://eruuf.org///NONSGML kigkonsult.se iCalcreator 2.10.15//
METHOD:PUBLISH
BEGIN:VEVENT
UID:20260425T230051UTC-6288rnWaBC@https://eruuf.org/
DTSTAMP:20260425T230051Z
DESCRIPTION:Contact Leila Jackson for more information and to join. https:/
 /eruuf.org/calendar/calendar-view/event/8974-girl-scout-troup-693.html
DTSTART:20200809T180000Z
DTEND:20200809T200000Z
LOCATION:Online (Zoom) (Scroll down to join or register.) ()
SUMMARY:Girl Scout Troup 693
URL:https://eruuf.org/calendar/calendar-view/event/8974-girl-scout-troup-69
 3.html
END:VEVENT
END:VCALENDAR
