BEGIN:VCALENDAR
VERSION:2.0
PRODID:-//https://eruuf.org///NONSGML kigkonsult.se iCalcreator 2.10.15//
METHOD:PUBLISH
BEGIN:VEVENT
UID:20260423T002306UTC-4816pVTFw3@https://eruuf.org/
DTSTAMP:20260423T002306Z
DESCRIPTION:The Stewardship Steering Team serves as a consulting and coordi
 nating group for stewardship activities at ERUUF with the primary goal of 
 enhancing the culture of generosity at ERUUF.  More information about stew
 ardship can be found here. https://eruuf.org/calendar/calendar-view/event/
 9020-stewardship-steering-team.html
DTSTART:20201201T200000Z
DTEND:20201201T213000Z
LOCATION:Online (Zoom) (Scroll down to join or register.) ()
SUMMARY:Stewardship Steering Team
URL:https://eruuf.org/calendar/calendar-view/event/9020-stewardship-steerin
 g-team.html
END:VEVENT
END:VCALENDAR
