BEGIN:VCALENDAR
VERSION:2.0
PRODID:-//https://eruuf.org///NONSGML kigkonsult.se iCalcreator 2.10.15//
METHOD:PUBLISH
BEGIN:VEVENT
UID:20260421T160831UTC-4093NWH9IZ@https://eruuf.org/
DTSTAMP:20260421T160831Z
DESCRIPTION:***Scroll down and click on the green 'Join Zoom Meeting' butto
 n to join on Sunday mornings.***\nERUUF’s popular Spiritual Odyssey conver
 sations will occur online each Sunday from June 28 to August 16. A beloved
  ERUUFian will present the story of her or his personal and/or spiritual q
 uest. We’ll hear about early childhood memories\, important forks in the r
 oad\, significant events\, and a few funny anecdotes along the way! We inv
 ite you to join us for an hour of storytelling and enlightenment as you ge
 t to know your fellowship friends better. Each Spiritual Odyssey will be f
 ollowed by a period of Q & A in a manner compatible with Zoom\, so that yo
 u can go deeper with the speaker.\nJoin Zoom Meeting \nMeeting Password: 2
 75154\nSchedule:\nJune 28 - Victoria Zula  How I Built My Life-Over and Ov
 er Again\nJuly 12 - Kim Swain - An Expanding Journey\nJuly 19 - Kristi Chi
 lton - My (U)Unfinished Symphony\nJuly 26 - Julie Edmunds - From Answers t
 o Questions\nAug. 2 - Clint McSherry -  A Skeptical Faith\nAug 9 - Carolyn
  Worthing - Growing\, Older\nAug 16 - Gerda Presson - The Earth Is My Spir
 itual Home\n  https://eruuf.org/calendar/calendar-view/event/9030-spiritua
 l-odyssey.html
DTSTART:20200816T130000Z
DTEND:20200816T140000Z
LOCATION:Online (Zoom) (Scroll down to join or register.) ()
SUMMARY:Spiritual Odyssey
URL:https://eruuf.org/calendar/calendar-view/event/9030-spiritual-odyssey.h
 tml
END:VEVENT
END:VCALENDAR
