BEGIN:VCALENDAR
VERSION:2.0
PRODID:-//https://eruuf.org///NONSGML kigkonsult.se iCalcreator 2.10.15//
METHOD:PUBLISH
BEGIN:VEVENT
UID:20260421T172901UTC-8822nc3xp8@https://eruuf.org/
DTSTAMP:20260421T172901Z
DESCRIPTION:Join us for ERUUF's virtual coffee house! We have a great lineu
 p of children\, families\, and adults ready to entertain and enlighten us 
 with music and spoken word performances. If you have been missing Café ERU
 UF\, our traditional open-mic night\, this is our online version. If you a
 re not one of our Café ERUUF regulars but have been enjoying the Wednesday
  Vespers services\, this is your opportunity to join in the Café experienc
 e and fellowship. Bring your own dessert!\n \nJoin  https://eruuf.org/cale
 ndar/calendar-view/event/9042-cafe-at-home.html
DTSTART:20200617T230000Z
DTEND:20200617T234000Z
LOCATION:Online (Zoom) (Scroll down to join or register.) ()
SUMMARY:Café at Home 
URL:https://eruuf.org/calendar/calendar-view/event/9042-cafe-at-home.html
END:VEVENT
END:VCALENDAR
