BEGIN:VCALENDAR
VERSION:2.0
PRODID:-//https://eruuf.org///NONSGML kigkonsult.se iCalcreator 2.10.15//
METHOD:PUBLISH
BEGIN:VEVENT
UID:20260423T020716UTC-3065JTFJ0V@https://eruuf.org/
DTSTAMP:20260423T020716Z
DESCRIPTION:Mark Your Calendars for Sunday\, June 28\, 2020\, 1:00 - 2:30 P
 M via Zoom (link to be provided at a later date).Our Annual Meeting will b
 e virtual this year and will include very important information regarding 
 the state of ERUUF and our future. We will also vote on our fiscal year 20
 20-21 budget as well as nominees for the Board of Trustees\, Healthy Congr
 egation Committee\, and Nominating Committee.All members are asked to join
  us for this very important meeting. Contact the Board directly with quest
 ions: board@eruuf.org.\nLearn more here. https://eruuf.org/calendar/calend
 ar-view/event/9043-annual-meeting.html
DTSTART:20200628T170000Z
DTEND:20200628T183000Z
LOCATION:Online (Zoom) (Scroll down to join or register.) ()
SUMMARY:Annual Meeting
URL:https://eruuf.org/calendar/calendar-view/event/9043-annual-meeting.html
END:VEVENT
END:VCALENDAR
