BEGIN:VCALENDAR
VERSION:2.0
PRODID:-//https://eruuf.org///NONSGML kigkonsult.se iCalcreator 2.10.15//
METHOD:PUBLISH
BEGIN:VEVENT
UID:20260425T142416UTC-9404dvhuVN@https://eruuf.org/
DTSTAMP:20260425T142416Z
DESCRIPTION:Finance Forum: Sunday\, June 14\, 1:00 pm ERUUF’s Board and Coo
 rdinating Team have been at work on the budget for FY 2020-21. Join us on 
 Sunday\, June 14 at 1:00 pm or Monday evening\, June 15 at 7:00 pm as we s
 hare information about what’s included in the budget\, what we think is li
 kely to be different this year (and why)\, and how we arrived at this reco
 mmended budget.   Members will vote on the budget at ERUUF’s ANNUAL MEETIN
 G on Sunday\, June 28 at 1:00 pm\, but the time for Q&A and extended discu
 ssion is now. The good news (and there’s plenty!) is that our members have
  pledged tremendous financial support for the coming year\, and ERUUF has 
 significant reserve funds. The not so good news is that we anticipate sign
 ificantly reduced rentals in the coming year\, and this represents about 1
 0% of our usual budget. Join the Sunday Finance Forum here or Dial-in:  +1
  646 558 8656 US (New York)\, Meeting ID: 876 7735 7401\n  https://eruuf.o
 rg/calendar/calendar-view/event/9044-finance-forum.html
DTSTART:20200614T163000Z
DTEND:20200614T173000Z
LOCATION:Online (Zoom) (Scroll down to join or register.) ()
SUMMARY:Finance Forum
URL:https://eruuf.org/calendar/calendar-view/event/9044-finance-forum.html
END:VEVENT
END:VCALENDAR
