BEGIN:VCALENDAR
VERSION:2.0
PRODID:-//https://eruuf.org///NONSGML kigkonsult.se iCalcreator 2.10.15//
METHOD:PUBLISH
BEGIN:VEVENT
UID:20260423T232030UTC-55670KpT0n@https://eruuf.org/
DTSTAMP:20260423T232030Z
DESCRIPTION:Please see Upcoming Services for details of each service.Please
  see Past Services for podcasts and details of older services.  https://er
 uuf.org/calendar/calendar-view/event/912-first-worship-service.html
DTSTART:20141005T131500Z
DTEND:20141005T141500Z
LOCATION:Sanctuary - ERUUF   (4907 Garrett Road\, Durham\, NC 27707  )
SUMMARY:First Worship Service
URL:https://eruuf.org/calendar/calendar-view/event/912-first-worship-servic
 e.html
END:VEVENT
END:VCALENDAR
