BEGIN:VCALENDAR
VERSION:2.0
PRODID:-//https://eruuf.org///NONSGML kigkonsult.se iCalcreator 2.10.15//
METHOD:PUBLISH
BEGIN:VEVENT
UID:20260423T144914UTC-6618weM8UK@https://eruuf.org/
DTSTAMP:20260423T144914Z
DESCRIPTION:Please see Upcoming Services for details of each service.Please
  see Past Services for podcasts and details of older services.  https://er
 uuf.org/calendar/calendar-view/event/915-first-worship-service.html
DTSTART:20140914T131500Z
DTEND:20140914T141500Z
LOCATION:Sanctuary - ERUUF   (4907 Garrett Road\, Durham\, NC 27707  )
SUMMARY:First Worship Service
URL:https://eruuf.org/calendar/calendar-view/event/915-first-worship-servic
 e.html
END:VEVENT
END:VCALENDAR
