BEGIN:VCALENDAR
VERSION:2.0
PRODID:-//https://eruuf.org///NONSGML kigkonsult.se iCalcreator 2.10.15//
METHOD:PUBLISH
BEGIN:VEVENT
UID:20260425T043114UTC-4595wfnDKu@https://eruuf.org/
DTSTAMP:20260425T043114Z
DESCRIPTION:UU Elevator Pitch is a 2-session course that guides participant
 s in developing a short statement about our Unitarian Universalist faith. 
 It is called an “elevator pitch” because\, on an elevator ride when someon
 e asks\, “What is Unitarian Universalism?” you only have a short time to m
 ake a meaningful statement!\n\nYou will be sent the Zoom link the day befo
 re the class. The link will be the same for BOTH classes. https://eruuf.or
 g/calendar/calendar-view/event/9241-uu-elevator-pitch.html
DTSTART:20201004T163000Z
DTEND:20201004T173000Z
LOCATION:Online (Zoom) (Scroll down to join or register.) ()
SUMMARY:UU Elevator Pitch
URL:https://eruuf.org/calendar/calendar-view/event/9241-uu-elevator-pitch.h
 tml
END:VEVENT
END:VCALENDAR
