BEGIN:VCALENDAR
VERSION:2.0
PRODID:-//https://eruuf.org///NONSGML kigkonsult.se iCalcreator 2.10.15//
METHOD:PUBLISH
BEGIN:VEVENT
UID:20260419T135807UTC-4851tdXPei@https://eruuf.org/
DTSTAMP:20260419T135807Z
DESCRIPTION:Coming of Age for Adults is a 6-session series designed for adu
 lts of all ages to explore their spiritual journey and religious identity.
  This course is designed for those who have attended some or all of the Fi
 nding Yourself at ERUUF offerings. Facilitated by John Rawls and Beth Harv
 at.\nOctober 18 – Session 1: Coming of Age…For Adults?\nOctober 25 – Stage
 s of Faith\nNovember 1 – Your Spiritual Journey \nNovember  8 – Statements
  of Faith\nNovember 15 – Developing Your Statement of Faith\nNovember 22 –
  Sharing Your Statement of Faith\n \nREGISTER https://eruuf.org/calendar/c
 alendar-view/event/9242-session-1-coming-of-age-for-adults.html
DTSTART:20201018T163000Z
DTEND:20201018T173000Z
LOCATION:Online (Zoom) (Scroll down to join or register.) ()
SUMMARY:Session 1: Coming of Age for Adults
URL:https://eruuf.org/calendar/calendar-view/event/9242-session-1-coming-of
 -age-for-adults.html
END:VEVENT
END:VCALENDAR
